BEGIN:VCALENDAR
VERSION:2.0
PRODID:icalendar-ruby
CALSCALE:GREGORIAN
METHOD:PUBLISH
BEGIN:VEVENT
DTSTAMP:20260421T191800Z
UID:5-400137@newgeneration227.tithelysetup5.com
DTSTART:20261101T183000Z
DTEND:20261101T193000Z
CLASS:PUBLIC
CREATED:20260421T104836
DESCRIPTION:Sunday Worship
LAST-MODIFIED:20260421T104836
LOCATION:
SUMMARY:Sunday Worship
URL;VALUE=URI:https://www.ngcoc.org/events/sunday-worship/2026-11-01
END:VEVENT
END:VCALENDAR
