BEGIN:VCALENDAR
VERSION:2.0
PRODID:icalendar-ruby
CALSCALE:GREGORIAN
METHOD:PUBLISH
BEGIN:VEVENT
DTSTAMP:20260421T174059Z
UID:5-399875@newgeneration227.tithelysetup5.com
DTSTART:20261025T173000Z
DTEND:20261025T183000Z
CLASS:PUBLIC
CREATED:20260421T080825
DESCRIPTION:Sunday Worship
LAST-MODIFIED:20260421T080825
LOCATION:
SUMMARY:Sunday Worship
URL;VALUE=URI:https://www.ngcoc.org/events/sunday-worship/2026-10-25
END:VEVENT
END:VCALENDAR
