BEGIN:VCALENDAR
VERSION:2.0
PRODID:icalendar-ruby
CALSCALE:GREGORIAN
METHOD:PUBLISH
BEGIN:VEVENT
DTSTAMP:20260421T143746Z
UID:5-399612@newgeneration227.tithelysetup5.com
DTSTART:20261011T173000Z
DTEND:20261011T183000Z
CLASS:PUBLIC
CREATED:20260421T053247
DESCRIPTION:Sunday Worship
LAST-MODIFIED:20260421T053247
LOCATION:
SUMMARY:Sunday Worship
URL;VALUE=URI:https://www.ngcoc.org/events/sunday-worship/2026-10-11
END:VEVENT
END:VCALENDAR
